BEGIN:VCALENDAR
VERSION:2.0
PRODID:-//eventon.com NONSGML v1.0//EN
CALSCALE:GREGORIAN
METHOD:PUBLISH
BEGIN:VEVENT
UID:69e72fc2f0f91
DTSTAMP:20260421T080522Z
DTSTART:20250930T190000Z
DTEND:20250930T220000Z
LOCATION:Ex-Iglesia de San Francisco de Borja
SUMMARY:(RE)Construir <br>participan: Albert Tidy\,  Daniel Lazo\,  Sofía Montealegre\,  Constanza Larach\,  Claudia Oliva\,  Rodrigo Chauriye\,  Beatriz Stägger <br>modera: Sebastián López
DESCRIPTION:Este panel reúne a autores y autoras que forman parte de la ex
 hibición principal de la Bienal en torno a la noción de (RE)construir\,  
 con proyectos que abarcan lo construido\,  la exhibición y los libros. Sus
  propuestas indagan cómo lo contemporáneo puede reencontrarse con lo pree
 xistente\,  mostrando que ambas dimensiones[..]\nhttps://programa.bienaldea
 rquitectura.cl/eventos/re-construir-participan-albert-tidy-daniel-lazo-sofi
 a-montealegre-constanza-larach-claudia-oliva-rodrigo-chauriye-beatriz-stagg
 er-modera-sebastian-lopez/
URL:https://programa.bienaldearquitectura.cl/eventos/re-construir-participan-albert-tidy-daniel-lazo-sofia-montealegre-constanza-larach-claudia-oliva-rodrigo-chauriye-beatriz-stagger-modera-sebastian-lopez/
END:VEVENT
END:VCALENDAR