BEGIN:VCALENDAR
VERSION:2.0
PRODID:-//eventon.com NONSGML v1.0//EN
CALSCALE:GREGORIAN
METHOD:PUBLISH
BEGIN:VEVENT
UID:69e731b15e82f
DTSTAMP:20260421T081337Z
DTSTART:20250928T130000Z
DTEND:20250929T025900Z
LOCATION:José Victorino Lastarria Esq. Rosal\,  Stgo Centro (Punto de encuentro)
SUMMARY:El futuro de barrio Lastarria junto a OH! Stgo <br>organiza: Equipo curatorial + OH! Stgo <br>lugar: José Victorino Lastarria Esq. Rosal\,  Stgo Centro (Punto de encuentro)
DESCRIPTION:El festival Open House Santiago (OH! Stgo) te invita a conocer 
 uno de los barrios más importantes del circuito cultural de Santiago. El b
 arrio Lastarria\,  cargado de historias\,  arte y cultura\,  se prepara par
 a recibir nuevos proyectos de arquitectura que refrescarán la cara del lug
 ar. A través de este recorrido\, [..]\nhttps://programa.bienaldearquitectu
 ra.cl/eventos/el-futuro-de-barrio-lastarria-2/
URL:https://programa.bienaldearquitectura.cl/eventos/el-futuro-de-barrio-lastarria-2/
END:VEVENT
END:VCALENDAR